BEGIN:VCALENDAR
VERSION:2.0
PRODID:-//Tukios.com/
BEGIN:VEVENT
UID:87534ba9-730c-45e3-9526-668819db5b2a@www.norrissegertfh.com
DTSTAMP:20260421T030838Z
DTSTART:20260423T160000Z
DTEND:20260423T170000Z
SUMMARY:Mass/Misa
DESCRIPTION:
URL:https://www.norrissegertfh.com/obituaries/michelle-venegas
LOCATION: 164 N. Oakwood Ave  West Chicago IL 60185
GEO:41.8866917;-88.1996725
END:VEVENT
END:VCALENDAR