BEGIN:VCALENDAR
VERSION:2.0
PRODID:-//Tukios.com/
BEGIN:VEVENT
UID:60c42143-fe45-44ab-a9aa-37cf793811cd@www.norrissegertfh.com
DTSTAMP:20260421T031156Z
DTSTART:20260423T150000Z
DTEND:20260423T160000Z
SUMMARY:Visitation/Visitación
DESCRIPTION:
URL:https://www.norrissegertfh.com/obituaries/michelle-venegas
LOCATION: 164 N. Oakwood Ave  West Chicago IL 60185
GEO:41.8866917;-88.1996725
END:VEVENT
END:VCALENDAR