BEGIN:VCALENDAR
VERSION:2.0
PRODID:-//Tukios.com/
BEGIN:VEVENT
UID:c3a76920-60bc-49db-947d-b30b51109a68@www.norrissegertfh.com
DTSTAMP:20260421T031315Z
DTSTART:20260422T210000Z
DTEND:20260423T010000Z
SUMMARY:Visitation/Visitación
DESCRIPTION:
URL:https://www.norrissegertfh.com/obituaries/michelle-venegas
LOCATION: 132 Fremont St  West Chicago IL 60185
GEO:41.8856358;-88.2056754
END:VEVENT
END:VCALENDAR