BEGIN:VCALENDAR
VERSION:2.0
PRODID:-//Tukios.com/
BEGIN:VEVENT
UID:ad5e3f4f-ad51-43e4-9a13-3ba3e1353a42@www.norrissegertfh.com
DTSTAMP:20260424T182303Z
DTSTART:20260503T173000Z
DTEND:20260503T193000Z
SUMMARY:Memorial Visitation
DESCRIPTION:
URL:https://www.norrissegertfh.com/obituaries/michael-zielinski
LOCATION: 132 Fremont St  West Chicago IL 60185
GEO:41.8856358;-88.2056754
END:VEVENT
END:VCALENDAR